BEGIN:VCALENDAR
VERSION:2.0
PRODID:-//Brunch PARK - ECPv6.15.17.1//NONSGML v1.0//EN
CALSCALE:GREGORIAN
METHOD:PUBLISH
X-WR-CALNAME:Brunch PARK
X-ORIGINAL-URL:https://brunch.park-basel.ch
X-WR-CALDESC:Veranstaltungen für Brunch PARK
REFRESH-INTERVAL;VALUE=DURATION:PT1H
X-Robots-Tag:noindex
X-PUBLISHED-TTL:PT1H
BEGIN:VTIMEZONE
TZID:Europe/Zurich
BEGIN:DAYLIGHT
TZOFFSETFROM:+0100
TZOFFSETTO:+0200
TZNAME:CEST
DTSTART:20250330T010000
END:DAYLIGHT
BEGIN:STANDARD
TZOFFSETFROM:+0200
TZOFFSETTO:+0100
TZNAME:CET
DTSTART:20251026T010000
END:STANDARD
BEGIN:DAYLIGHT
TZOFFSETFROM:+0100
TZOFFSETTO:+0200
TZNAME:CEST
DTSTART:20260329T010000
END:DAYLIGHT
BEGIN:STANDARD
TZOFFSETFROM:+0200
TZOFFSETTO:+0100
TZNAME:CET
DTSTART:20261025T010000
END:STANDARD
BEGIN:DAYLIGHT
TZOFFSETFROM:+0100
TZOFFSETTO:+0200
TZNAME:CEST
DTSTART:20270328T010000
END:DAYLIGHT
BEGIN:STANDARD
TZOFFSETFROM:+0200
TZOFFSETTO:+0100
TZNAME:CET
DTSTART:20271031T010000
END:STANDARD
END:VTIMEZONE
BEGIN:VEVENT
DTSTART;TZID=Europe/Zurich:20260405T100000
DTEND;TZID=Europe/Zurich:20260405T140000
DTSTAMP:20260420T061458
CREATED:20260105T134853Z
LAST-MODIFIED:20260105T141622Z
UID:2361-1775383200-1775397600@brunch.park-basel.ch
SUMMARY:Ein besonderer Sonntag – Osterbrunch-Spezial im PARK
DESCRIPTION:Gönnt euch sonntags eine Auszeit der besonderen Art! Wir laden euch herzlich ein\, im PARK unseren exquisiten Sonntagsbrunch zu entdecken\, der jeden zweiten Sonntag des Monats von 10 bis 14 Uhr stattfindet. \n\n\n\nUnser Brunch bietet eine grosse Auswahl an Köstlichkeiten – von frischem Gebäck und Müsli bis hin zu feinen Eierspeisen\, frischen Früchten und vielem mehr – alles à discrétion! Unsere Küchencrew bereitet alles frisch zu\, damit ihr einen unvergesslichen Sonntag erleben könnt. \n\n\n\n👉 Deluxe Brunch à discrétion inkl. 1 Heissgetränk und 1 Prosecco: CHF 59 pro Person \n\n\n\nGeniesst eine vielfältige Auswahl\, bei der ihr nach Herzenslust schlemmen könnt.Sichert euch jetzt euren Tisch! Reservationen nehmen wir gerne telefonisch unter 061 681 40 22 oder online via Gastronovi entgegen.
URL:https://brunch.park-basel.ch/event/ein-besonderer-sonntag-osterbrunch-spezial-im-park/
LOCATION:PARK Lange Erlen\, Erlenparkweg 55\, Basel\, Basel-Stadt\, 4058\, Switzerland
CATEGORIES:Brunch Deluxe
ATTACH;FMTTYPE=image/jpeg:https://brunch.park-basel.ch/wp-content/uploads/2026/01/a-vibrant-easter-display-featuring-a-chocolate-bunny-pastel-eggs-and-tulips.-2072163-scaled.jpg
ORGANIZER;CN="PARK Lange Erlen":MAILTO:park@parterre.net
END:VEVENT
END:VCALENDAR